BEGIN:VCALENDAR
VERSION:2.0
PRODID:-//eventon.com NONSGML v1.0//EN
CALSCALE:GREGORIAN
METHOD:PUBLISH
BEGIN:VEVENT
UID:69e65329a2348
DTSTAMP:20260420T162409Z
DTSTART:20260812T161000Z
DTEND:20260812T215900Z
LOCATION:St. Marienkirche Rendsburg (Altstadt) An der Marienkirche\,  24768 Rendsburg
SUMMARY:Sommerkonzert VII St. Marien Rendsburg: Akkordeon total
DESCRIPTION:Akkordeon total! Das Instrument des Jahres 2026! Alexander Bytc
 hkov\,  Akkordeon Werke von J. S. Bach\,  G.B. Pergolesi\,  D. Scarlatti\, 
  G. Caccini\,  R. Galliano u.a. Eintritt frei\nhttps://schleswig-holstein.s
 h/blog/veranstaltungen/sommerkonzert-vii-st-marien-rendsburg-akkordeon-tota
 l/
URL:https://schleswig-holstein.sh/blog/veranstaltungen/sommerkonzert-vii-st-marien-rendsburg-akkordeon-total/
END:VEVENT
END:VCALENDAR