BEGIN:VCALENDAR
VERSION:2.0
PRODID:-//eventon.com NONSGML v1.0//EN
CALSCALE:GREGORIAN
METHOD:PUBLISH
BEGIN:VEVENT
UID:69e6532f55d82
DTSTAMP:20260420T162415Z
DTSTART:20260826T161000Z
DTEND:20260826T120000Z
LOCATION:St. Marienkirche Rendsburg (Altstadt) An der Marienkirche\,  24768 Rendsburg
SUMMARY:Sommerkonzert IX St. Marien Rendsburg: Festliches Abschlusskonzert
DESCRIPTION:Festliches Abschlusskonzert Lukas Paulenz\,  Trompete Volker Li
 nhardt\,  Orgel Werke aus Barock\,  Klassik und Romantik Eintritt frei\nhtt
 ps://schleswig-holstein.sh/blog/veranstaltungen/sommerkonzert-ix-st-marien-
 rendsburg-festliches-abschlusskonzert/
URL:https://schleswig-holstein.sh/blog/veranstaltungen/sommerkonzert-ix-st-marien-rendsburg-festliches-abschlusskonzert/
END:VEVENT
END:VCALENDAR