BEGIN:VCALENDAR
VERSION:2.0
PRODID:-//eventon.com NONSGML v1.0//EN
CALSCALE:GREGORIAN
METHOD:PUBLISH
BEGIN:VEVENT
UID:69e66852d32c9
DTSTAMP:20260420T175426Z
DTSTART:20260502
DTEND:20260503
LOCATION:Schleswig-Holstein &amp; Süddänemark verschiedene Orte
SUMMARY:folkBALTICA Fesitval 2026
DESCRIPTION:Horizonte öffnen sich\,  wenn wir uns bewegen. Wenn wir unsere
 n Blick und unsere Ohren weiten und bereit sind\,  uns treiben zu lassen. W
 omit geht das besser als mit Musik? Vom 2. &#8211; 10. Mai 2026 steht die d
 eutsch-dänische Grenzregion wieder im Zeichen von Folk-Musik: folkBALTICA 
 lädt unter dem Motto „Horizonte“[..]\nhttps://schleswig-holstein.sh/bl
 og/veranstaltungen/folkbaltica-fesitval-2026/
URL:https://schleswig-holstein.sh/blog/veranstaltungen/folkbaltica-fesitval-2026/
END:VEVENT
END:VCALENDAR