BEGIN:VCALENDAR
VERSION:2.0
PRODID:-//eventon.com NONSGML v1.0//EN
CALSCALE:GREGORIAN
METHOD:PUBLISH
BEGIN:VEVENT
UID:69eb4c8aa8f63
DTSTAMP:20260424T105714Z
DTSTART:20260425T130000Z
DTEND:20260501T160000Z
LOCATION:Kulturbahnhof Eutin (Kubah) 23701 Eutin\,  Bahnhof\,  Eutin\,  Schleswig-Holstein 23701\,  Deutschland\,  Eutin\,  Schleswig-Holstein\,  Deutschland\,  Eutin\,  Schleswig-Holstein\,  Deutschland\,  Eutin\,  Schleswig-Holstein\,  Deutschland\,  Eutin\,  Schleswig-Holstein\,  Deutschland\,  Eutin\,  Schleswig-Holstein\,  Deutschland
SUMMARY:Kulturbahnhof (KuBah) Eutin – „Schein und Sein“ Ausstellung mit Vernissage
DESCRIPTION:wieder eine neue Ausstellung im Kulturbahnhof in Eutin &#8222;S
 CHEIN UND SEIN&#8220;. Der Arzt und Künstler Herbert Wiedergut stellt sein
 e Werke aus. Die Vernissage zur Ausstellung findet am Samstag\,  25. April\
 ,  15 Uhr statt.\nhttps://schleswig-holstein.sh/blog/veranstaltungen/kultur
 bahnhof-kubah-eutin-2/
URL:https://schleswig-holstein.sh/blog/veranstaltungen/kulturbahnhof-kubah-eutin-2/
END:VEVENT
END:VCALENDAR