BEGIN:VCALENDAR
VERSION:2.0
PRODID:-//eventon.com NONSGML v1.0//EN
CALSCALE:GREGORIAN
METHOD:PUBLISH
BEGIN:VEVENT
UID:69e772d58dc5a
DTSTAMP:20260421T125133Z
DTSTART:20260412T180000Z
DTEND:20260412T193000Z
LOCATION:Theaterhaus Lübeck Königstraße 17\,  23552 Lübeck
SUMMARY:Beklaute Frauen
DESCRIPTION:Systematisch wurden Frauen bisher ausgeblendet und ausgenutzt. 
 Sie veränderten die Welt und Männer ernteten oftmals den Ruhm. Angelika N
 eumann bringt mit Schauspiel\,  Tanz und Videos bemerkenswerte und unbekann
 te Frauen von der Urzeit über die Französische Revolution bis zum zweiten
  Weltkrieg auf die Bühne. Mileva Marić\,  Lucia Moholy\,  Margarete Steff
 in und[..]\nhttps://schleswig-holstein.sh/blog/veranstaltungen/beklaute-fra
 uen/
URL:https://schleswig-holstein.sh/blog/veranstaltungen/beklaute-frauen/
END:VEVENT
END:VCALENDAR