BEGIN:VCALENDAR
VERSION:2.0
PRODID:-//eventon.com NONSGML v1.0//EN
CALSCALE:GREGORIAN
METHOD:PUBLISH
BEGIN:VEVENT
UID:69eb49a6e2467
DTSTAMP:20260424T104454Z
DTSTART:20260423T173000Z
DTEND:20260423T090000Z
LOCATION:St. Johannis Kirche Am Wall 3\,  23758 Oldenburg in Hiolstein
SUMMARY:JUDAS
DESCRIPTION:JUDAS\nhttps://schleswig-holstein.sh/blog/veranstaltungen/judas
 -2/
URL:https://schleswig-holstein.sh/blog/veranstaltungen/judas-2/
END:VEVENT
END:VCALENDAR