BEGIN:VCALENDAR
VERSION:2.0
PRODID:-//eventon.com NONSGML v1.0//EN
CALSCALE:GREGORIAN
METHOD:PUBLISH
BEGIN:VEVENT
UID:69eb512967522
DTSTAMP:20260424T111657Z
DTSTART:20260424T173000Z
DTEND:20260424T090000Z
LOCATION:Stadttheater Flensburg Rathausstraße 22\,  24937 Flensburg
SUMMARY:Dialoge der Karmeliterinnen
DESCRIPTION:Dialoge der Karmeliterinnen\nhttps://schleswig-holstein.sh/blog
 /veranstaltungen/dialoge-der-karmeliterinnen-2/
URL:https://schleswig-holstein.sh/blog/veranstaltungen/dialoge-der-karmeliterinnen-2/
END:VEVENT
END:VCALENDAR