BEGIN:VCALENDAR
VERSION:2.0
PRODID:-//eventon.com NONSGML v1.0//EN
CALSCALE:GREGORIAN
METHOD:PUBLISH
BEGIN:VEVENT
UID:69eb4c59a5c89
DTSTAMP:20260424T105625Z
DTSTART:20260428T173000Z
DTEND:20260428T090000Z
LOCATION:Stadttheater Flensburg Rathausstraße 22\,  24937 Flensburg
SUMMARY:Black Rider
DESCRIPTION:Black Rider\nhttps://schleswig-holstein.sh/blog/veranstaltungen
 /black-rider-3/
URL:https://schleswig-holstein.sh/blog/veranstaltungen/black-rider-3/
END:VEVENT
END:VCALENDAR