BEGIN:VCALENDAR
VERSION:2.0
PRODID:-//eventon.com NONSGML v1.0//EN
CALSCALE:GREGORIAN
METHOD:PUBLISH
BEGIN:VEVENT
UID:69eb4c5dc25b5
DTSTAMP:20260424T105629Z
DTSTART:20260429T173000Z
DTEND:20260429T090000Z
LOCATION:Stadttheater Flensburg Rathausstraße 22\,  24937 Flensburg
SUMMARY:Dialoge der Karmeliterinnen
DESCRIPTION:Dialoge der Karmeliterinnen\nhttps://schleswig-holstein.sh/blog
 /veranstaltungen/dialoge-der-karmeliterinnen-3/
URL:https://schleswig-holstein.sh/blog/veranstaltungen/dialoge-der-karmeliterinnen-3/
END:VEVENT
END:VCALENDAR