BEGIN:VCALENDAR
VERSION:2.0
PRODID:-//eventon.com NONSGML v1.0//EN
CALSCALE:GREGORIAN
METHOD:PUBLISH
BEGIN:VEVENT
UID:69eb4c4eb5a11
DTSTAMP:20260424T105614Z
DTSTART:20260430T173000Z
DTEND:20260430T090000Z
LOCATION:Kleine Bühne Nordergraben 12\,  24937 Flensburg
SUMMARY:TRAUM!
DESCRIPTION:TRAUM!\nhttps://schleswig-holstein.sh/blog/veranstaltungen/trau
 m-5/
URL:https://schleswig-holstein.sh/blog/veranstaltungen/traum-5/
END:VEVENT
END:VCALENDAR