BEGIN:VCALENDAR
VERSION:2.0
PRODID:-//eventon.com NONSGML v1.0//EN
CALSCALE:GREGORIAN
METHOD:PUBLISH
BEGIN:VEVENT
UID:69eb4c7fe71b0
DTSTAMP:20260424T105703Z
DTSTART:20260425T170000Z
DTEND:20260425T100000Z
LOCATION:Stadttheater Rendsburg Rathausstraße 22\,  24937 Flensburg
SUMMARY:The Black Rider
DESCRIPTION:The Black Rider\nhttps://schleswig-holstein.sh/blog/veranstaltu
 ngen/the-black-rider/
URL:https://schleswig-holstein.sh/blog/veranstaltungen/the-black-rider/
END:VEVENT
END:VCALENDAR