BEGIN:VCALENDAR
VERSION:2.0
PRODID:-//eventon.com NONSGML v1.0//EN
CALSCALE:GREGORIAN
METHOD:PUBLISH
BEGIN:VEVENT
UID:69eb42a471993
DTSTAMP:20260424T101500Z
DTSTART:20260430T173000Z
DTEND:20260430T100000Z
LOCATION:Stadttheater Rendsburg Rathausstraße 22\,  24937 Flensburg
SUMMARY:Du bist meine Mutter
DESCRIPTION:Du bist meine Mutter\nhttps://schleswig-holstein.sh/blog/verans
 taltungen/du-bist-meine-mutter-3/
URL:https://schleswig-holstein.sh/blog/veranstaltungen/du-bist-meine-mutter-3/
END:VEVENT
END:VCALENDAR