BEGIN:VCALENDAR
VERSION:2.0
PRODID:-//eventon.com NONSGML v1.0//EN
CALSCALE:GREGORIAN
METHOD:PUBLISH
BEGIN:VEVENT
UID:69eb4c55e309a
DTSTAMP:20260424T105621Z
DTSTART:20260424T173000Z
DTEND:20260424T100000Z
LOCATION:TraumInsel Schleswig Theaterstraße 1\,  24837 Schleswig
SUMMARY:Welche Droge passt zu mir?
DESCRIPTION:Welche Droge passt zu mir?\nhttps://schleswig-holstein.sh/blog/
 veranstaltungen/welche-droge-passt-zu-mir-3/
URL:https://schleswig-holstein.sh/blog/veranstaltungen/welche-droge-passt-zu-mir-3/
END:VEVENT
END:VCALENDAR