BEGIN:VCALENDAR
VERSION:2.0
PRODID:-//eventon.com NONSGML v1.0//EN
CALSCALE:GREGORIAN
METHOD:PUBLISH
BEGIN:VEVENT
UID:69eb781fec0b2
DTSTAMP:20260424T140311Z
DTSTART:20260429T173000Z
DTEND:20260429T100000Z
LOCATION:Slesvighus Lollfuß 89\,  Schleswig\,  Schleswig-Holstein 24837\,  Deutschland
SUMMARY:Biedermann und die Brandstifter
DESCRIPTION:Biedermann und die Brandstifter\nhttps://schleswig-holstein.sh/
 blog/veranstaltungen/biedermann-und-die-brandstifter-3/
URL:https://schleswig-holstein.sh/blog/veranstaltungen/biedermann-und-die-brandstifter-3/
END:VEVENT
END:VCALENDAR