BEGIN:VCALENDAR
VERSION:2.0
PRODID:-//eventon.com NONSGML v1.0//EN
CALSCALE:GREGORIAN
METHOD:PUBLISH
BEGIN:VEVENT
UID:69e77296bcf48
DTSTAMP:20260421T125030Z
DTSTART:20260412T080000Z
DTEND:20260412T150000Z
LOCATION:Schleswig-Holsteinisches Landwirtschaftsmuseum Jungfernstieg 4\,  25704 Meldorf
SUMMARY:Modellbautag
DESCRIPTION:Mit einem großen Modellbautag eröffnet das Schleswig-Holstein
 ische Landwirtschaftsmuseum den ersten Bauabschnitt des AgriDome\,  der neu
 en interaktiven Spielanlage aus Siku und Spur-1-Eisenbahn-Modellbau. Vom Ma
 ßstab 1:87 bis 1:6 gibt es darüber hinaus Eisenbahnen\,  Landmaschinen\, 
  Bagger\,  Baumaschinen\,  Lkws\,  Nutzfahrzeuge\,  Schiffe und Dampfmodell
 e in Aktion zu bestaunen. Einblicke in den Dioramen- und Karton-Modellbau g
 eben[..]\nhttps://schleswig-holstein.sh/blog/veranstaltungen/modellbautag/
URL:https://schleswig-holstein.sh/blog/veranstaltungen/modellbautag/
END:VEVENT
END:VCALENDAR