BEGIN:VCALENDAR
VERSION:2.0
PRODID:-//eventon.com NONSGML v1.0//EN
CALSCALE:GREGORIAN
METHOD:PUBLISH
BEGIN:VEVENT
UID:69ed3db167cbf
DTSTAMP:20260425T221825Z
DTSTART:20260403T120000Z
DTEND:20260403T143000Z
LOCATION:Naturschutzgebiet Billetal Staubrücke am Mühlenteich\,  Aumühle\,  Schleswig-Holstein 21521\,  Deutschland
SUMMARY:Baum als Lebensraum: Von Baumhöhlen und anderen Entdeckungen im Billetal
DESCRIPTION:Ort: Naturschutzgebiet Billetal Treffpunkt: Staubrücke am Müh
 lenteich\,  Aumühle Sprache: Deutsche Lautsprache Zielgruppe: Interessiert
 e Erwachsene und Familien mit Kindern ab 8 Jahren Bäume sind Leben und Leb
 ensraum in einem. Wunden an Bäumen können bspw. Unterschlupf\,  Mikroklim
 a &amp; Nahrung für eine Vielzahl von Lebewesen bieten. Diese Ranger-Führ
 ung im Naturschutzgebiet Billetal lädt dazu[..]\nhttps://schleswig-holstei
 n.sh/blog/veranstaltungen/baum-als-lebensraum-von-baumhoehlen-und-anderen-e
 ntdeckungen-im-billetal/
URL:https://schleswig-holstein.sh/blog/veranstaltungen/baum-als-lebensraum-von-baumhoehlen-und-anderen-entdeckungen-im-billetal/
END:VEVENT
END:VCALENDAR