BEGIN:VCALENDAR
VERSION:2.0
PRODID:-//eventon.com NONSGML v1.0//EN
CALSCALE:GREGORIAN
METHOD:PUBLISH
BEGIN:VEVENT
UID:69e789cd9de14
DTSTAMP:20260421T142933Z
DTSTART:20260403T080000Z
DTEND:20260403T215900Z
LOCATION:Naturschutzgebiet Wittmoor Hasenmoorweg\,  Norderstedt\,  Schleswig-Holstein 22851\,  Deutschland
SUMMARY:Im Wittmoor mit dem Ranger: Moorschutz ist Klimaschutz
DESCRIPTION:Ort: Naturschutzgebiet Wittmoor Treffpunkt: Hasenmoorweg\,  Nor
 derstedt (Zugang Wittmoor) Sprache: deutsch Zielgruppe: Interessierte Erwac
 hsene und Familien mit Kindern ab 8 Jahren Moore sind faszinierende Ökosys
 teme die nicht nur entscheidend zur Kohlenstoffspeicherung und damit zum Kl
 imaschutz beitragen\,  sondern sie sind auch ein wichtiger Lebensraum für 
 viele heimische Tiere und Pflanzen. Auf dieser[..]\nhttps://schleswig-holst
 ein.sh/blog/veranstaltungen/im-wittmoor-mit-dem-ranger-moorschutz-ist-klima
 schutz/
URL:https://schleswig-holstein.sh/blog/veranstaltungen/im-wittmoor-mit-dem-ranger-moorschutz-ist-klimaschutz/
END:VEVENT
END:VCALENDAR