BEGIN:VCALENDAR
VERSION:2.0
PRODID:-//eventon.com NONSGML v1.0//EN
CALSCALE:GREGORIAN
METHOD:PUBLISH
BEGIN:VEVENT
UID:69e772d079e1b
DTSTAMP:20260421T125128Z
DTSTART:20260410T180000Z
DTEND:20260410T215900Z
LOCATION:Kulturhaus Wilster m Markt 14a\,  Wilster 25554\,  DE\,  Wilster\,  DE\,  Wilster\,  DE\,  Wilster\,  DE\,  Wilster\,  DE\,  Wilster\,  DE
SUMMARY:Open Stage
DESCRIPTION:Einmal im Monat kannst Dich im Kulturhaus vom bunten Programm a
 uf unserer Open Stage überraschen lassen. Vielleicht möchtest Du ja auch 
 etwas beisteuern? Ob Lesung\,  (Impro)Theater oder Musik\,  Nachwuchstalent
  oder alter Hase &#8211; alles ist möglich. Melde Deinen Beitrag gerne vor
 her an (info@kulturhauswilster.de)\,  damit wir besser planen können. Aber
  auch[..]\nhttps://schleswig-holstein.sh/blog/veranstaltungen/open-stage-3/
URL:https://schleswig-holstein.sh/blog/veranstaltungen/open-stage-3/
END:VEVENT
END:VCALENDAR