BEGIN:VCALENDAR
VERSION:2.0
PRODID:-//eventon.com NONSGML v1.0//EN
CALSCALE:GREGORIAN
METHOD:PUBLISH
BEGIN:VEVENT
UID:69e789bf97bcd
DTSTAMP:20260421T142919Z
DTSTART:20260412T123000Z
DTEND:20260412T160000Z
LOCATION:Kulturhaus Wilster m Markt 14a\,  Wilster 25554\,  DE\,  Wilster\,  DE\,  Wilster\,  DE\,  Wilster\,  DE\,  Wilster\,  DE\,  Wilster\,  DE
SUMMARY:Tango Café - Milonga mit TANGONIDO
DESCRIPTION:Freut Euch auf unsere Sonntags-Milonga mit DJ Dobri im Kulturha
 us. Gute Musik\,  leckerer Kuchen und nette Menschen in Wilsters gemütlich
 em Wohnzimmer. Dazu noch Tango tanzen – besser kann ein Sonntag nicht sei
 n! Der Eintritt ist frei\,  Tänzer*innen zahlen einen DJ Obolus.\nhttps://
 schleswig-holstein.sh/blog/veranstaltungen/tango-cafe-milonga-mit-tangonido
 -2/
URL:https://schleswig-holstein.sh/blog/veranstaltungen/tango-cafe-milonga-mit-tangonido-2/
END:VEVENT
END:VCALENDAR