BEGIN:VCALENDAR
VERSION:2.0
PRODID:-//eventon.com NONSGML v1.0//EN
CALSCALE:GREGORIAN
METHOD:PUBLISH
BEGIN:VEVENT
UID:69e789cdab7e6
DTSTAMP:20260421T142933Z
DTSTART:20260418T180000Z
DTEND:20260418T120000Z
LOCATION:Kulturhaus Wilster m Markt 14a\,  Wilster 25554\,  DE\,  Wilster\,  DE\,  Wilster\,  DE\,  Wilster\,  DE\,  Wilster\,  DE\,  Wilster\,  DE
SUMMARY:70's / 80's Party - Disko mit DJ Holger Haß
DESCRIPTION:Einen musikalischen Ausflug in die 70’s und 80’s liefert DJ
  Holger Haß. Von Glamrock über New Wave bis zu Disco sind verschiedene Ge
 nres dabei. Für alle\,  die Lust haben\,  mal wieder zu Musik von Falco\, 
  Depeche Mode oder Middle Of The Road auf der Tanzfläche zu stehen.\nhttps
 ://schleswig-holstein.sh/blog/veranstaltungen/70s-80s-party-disko-mit-dj-ho
 lger-hass/
URL:https://schleswig-holstein.sh/blog/veranstaltungen/70s-80s-party-disko-mit-dj-holger-hass/
END:VEVENT
END:VCALENDAR