BEGIN:VCALENDAR
VERSION:2.0
PRODID:-//eventon.com NONSGML v1.0//EN
CALSCALE:GREGORIAN
METHOD:PUBLISH
BEGIN:VEVENT
UID:69eb516729db6
DTSTAMP:20260424T111759Z
DTSTART:20260424T180000Z
DTEND:20260424T215900Z
LOCATION:Kulturhaus Wilster m Markt 14a\,  Wilster 25554\,  DE\,  Wilster\,  DE\,  Wilster\,  DE\,  Wilster\,  DE\,  Wilster\,  DE\,  Wilster\,  DE
SUMMARY:Filmclub - Überraschungsfilm
DESCRIPTION:In Wohnzimmer-Atmosphäre werden besondere Filme präsentiert\,
   alte Schätze ausgegraben und Klassiker der Filmgeschichte gezeigt. Nach 
 dem Film lädt der Filmclub zum Verweilen und Diskutieren in gemütlicher R
 unde ein. Die Titel dürfen wir leider nicht öffentlich ankündigen. Ihr f
 indet sie als Aushang im Kulturhaus oder könnt sie per E-Mail anfragen. Eb
 enso[..]\nhttps://schleswig-holstein.sh/blog/veranstaltungen/filmclub-ueber
 raschungsfilm-2/
URL:https://schleswig-holstein.sh/blog/veranstaltungen/filmclub-ueberraschungsfilm-2/
END:VEVENT
END:VCALENDAR