BEGIN:VCALENDAR
VERSION:2.0
PRODID:-//eventon.com NONSGML v1.0//EN
CALSCALE:GREGORIAN
METHOD:PUBLISH
BEGIN:VEVENT
UID:69eca8cf0b7d8
DTSTAMP:20260425T114311Z
DTSTART:20260425T170000Z
DTEND:20260425T215900Z
LOCATION:Kulturhaus Wilster m Markt 14a\,  Wilster 25554\,  DE\,  Wilster\,  DE\,  Wilster\,  DE\,  Wilster\,  DE\,  Wilster\,  DE\,  Wilster\,  DE
SUMMARY:Musiknacht in Wilster - GrüneTöne - Folkmusik
DESCRIPTION:Die Musiknacht Wilster findet dieses Jahr erstmals im Frühjahr
  statt. Passend dazu spielt bei uns die Band GrüneTöne. Das Trio spielt I
 rish-Scottish-American Folk\,  Singer Songwriter und eigene Kompositionen. 
 Das abwechslungsreiche Programm aus Songs gemischt mit Tunes (traditionelle
  Instrumentals) macht Spaß und sorgt für glückliche Gesichter bei den Zu
 hörern. Das Trio[..]\nhttps://schleswig-holstein.sh/blog/veranstaltungen/m
 usiknacht-in-wilster-gruenetoene-folkmusik/
URL:https://schleswig-holstein.sh/blog/veranstaltungen/musiknacht-in-wilster-gruenetoene-folkmusik/
END:VEVENT
END:VCALENDAR