BEGIN:VCALENDAR
VERSION:2.0
PRODID:-//eventon.com NONSGML v1.0//EN
CALSCALE:GREGORIAN
METHOD:PUBLISH
BEGIN:VEVENT
UID:69eb5186d4bd3
DTSTAMP:20260424T111830Z
DTSTART:20260430T180000Z
DTEND:20260430T215900Z
LOCATION:Kulturhaus Wilster m Markt 14a\,  Wilster 25554\,  DE\,  Wilster\,  DE\,  Wilster\,  DE\,  Wilster\,  DE\,  Wilster\,  DE\,  Wilster\,  DE
SUMMARY:Tanz in den Mai - mit Namoli Brennet\,  Amy Protscher und Holger Haß
DESCRIPTION:Begleitet wird sie von Amy Protscher\,  die zuletzt mit Rag Dol
 l das Kulturhaus rockte. In den USA ist Namoli Brennet nach 15 CDs bereits 
 eine feste Größe. Sie wird in einem Atemzug mit Melissa Etheridge und Jon
 i Mitchell genannt. Auf ihrer neuen Tour 2026 in Deutschland spielt sie zus
 ammen mit[..]\nhttps://schleswig-holstein.sh/blog/veranstaltungen/tanz-in-d
 en-mai-mit-namoli-brennet-amy-protscher-und-holger-hass/
URL:https://schleswig-holstein.sh/blog/veranstaltungen/tanz-in-den-mai-mit-namoli-brennet-amy-protscher-und-holger-hass/
END:VEVENT
END:VCALENDAR