BEGIN:VCALENDAR
VERSION:2.0
PRODID:-//eventon.com NONSGML v1.0//EN
CALSCALE:GREGORIAN
METHOD:PUBLISH
BEGIN:VEVENT
UID:69e6538006b5e
DTSTAMP:20260420T162536Z
DTSTART:20260401T120000Z
DTEND:20260401T153000Z
LOCATION:Galerie RAINER GRÖSCHL Holtenauer Straße 59\,  24105 Kiel
SUMMARY:Kiel: Carola Schapals - neue Malerei
DESCRIPTION:Carola Schapals über ihre Arbeiten: Was mich seit Langem faszi
 niert\,  sind magische Orte in der Natur\,  besondere Architekturen\,  die 
 Wesen grüner Pflanzen\,  etwas in der Art. In meiner Malerei geht es um da
 s Zusammenspiel von Unlesbarkeit und Transparenz\,  um magische Elemente od
 er das Geheimnis des Lichts\,  um eine Atmosphäre einzufangen.[..]\nhttps:
 //schleswig-holstein.sh/blog/veranstaltungen/kiel-carola-schapals-neue-male
 rei/var/ri-4.l-L1
URL:https://schleswig-holstein.sh/blog/veranstaltungen/kiel-carola-schapals-neue-malerei/var/ri-4.l-L1
END:VEVENT
END:VCALENDAR