BEGIN:VCALENDAR
VERSION:2.0
PRODID:-//eventon.com NONSGML v1.0//EN
CALSCALE:GREGORIAN
METHOD:PUBLISH
BEGIN:VEVENT
UID:69e789cbc9969
DTSTAMP:20260421T142931Z
DTSTART:20260510T170000Z
DTEND:20260510T190000Z
LOCATION:Kulturbahnhof Eutin (Kubah) 23701 Eutin\,  Bahnhof\,  Eutin\,  Schleswig-Holstein 23701\,  Deutschland\,  Eutin\,  Schleswig-Holstein\,  Deutschland\,  Eutin\,  Schleswig-Holstein\,  Deutschland
SUMMARY:Kulturbahnhof Eutin - Schwingen - Tanzperformance
DESCRIPTION:Eine weitere Tanzperformance im KuBah Eutin. Lotte Grohe und An
 gelika Neumann tanzen vor einer Videoinstallation Live-Musik. Sie performen
  einen intuitiven Tanz\,  der unter die Haut geht. Im Anschluss gibt es Ges
 präche bei Suppe und Tee.\nhttps://schleswig-holstein.sh/blog/veranstaltun
 gen/kulturbahnhof-eutin-schwingen-tanzperformance/
URL:https://schleswig-holstein.sh/blog/veranstaltungen/kulturbahnhof-eutin-schwingen-tanzperformance/
END:VEVENT
END:VCALENDAR