BEGIN:VCALENDAR
VERSION:2.0
PRODID:-//eventon.com NONSGML v1.0//EN
CALSCALE:GREGORIAN
METHOD:PUBLISH
BEGIN:VEVENT
UID:69e7b2cc8893f
DTSTAMP:20260421T172428Z
DTSTART:20260609T160000Z
DTEND:20260609T180000Z
LOCATION:Kulturbahnhof (KuBah) Eutin 23701 Eutin\,  Eutin\,  Schleswig-Holstein 23701\,  Deutschland\,  Eutin\,  Schleswig-Holstein\,  Deutschland\,  Eutin\,  Schleswig-Holstein\,  Deutschland\,  Eutin\,  Schleswig-Holstein\,  Deutschland\,  Eutin\,  Schleswig-Holstein\,  Deutschland
SUMMARY:Kulturbahnhof Eutin - Vortrag -J.-H.-W.-Tischbein-seine Themen-seine Arbeitstechniken
DESCRIPTION:Johann Heinrich Wilhelm Tischbein\,  Teil einer weit verzweigte
 n Künstlerfamilie\,  ist weltweit bekannt als der Maler des Portraits ‚G
 oethe in der Campagna‘. Weniger bekannt sind seine anderen Werke. Seine A
 rbeitsweise ist ebenso vielfältig wie die Auswahl seiner Motive – von Fe
 der\,  Aquarell und Kupferstich bis hin zu Öl\,  von der Antike[..]\nhttps
 ://schleswig-holstein.sh/blog/veranstaltungen/kulturbahnhof-eutin-vortrag-j
 -h-w-tischbein-seine-themen-seine-arbeitstechniken/
URL:https://schleswig-holstein.sh/blog/veranstaltungen/kulturbahnhof-eutin-vortrag-j-h-w-tischbein-seine-themen-seine-arbeitstechniken/
END:VEVENT
END:VCALENDAR