BEGIN:VCALENDAR
VERSION:2.0
PRODID:-//eventon.com NONSGML v1.0//EN
CALSCALE:GREGORIAN
METHOD:PUBLISH
BEGIN:VEVENT
UID:69ecdfa43a335
DTSTAMP:20260425T153708Z
DTSTART:20260510T130000Z
DTEND:20260620T160000Z
LOCATION:KBH Marne Schillerstraße 11\,  25709 Marne
SUMMARY:Ich bin kein Roboter
DESCRIPTION:„ICH BIN KEIN ROBOTER“ ist mehr als eine Abgrenzung – es 
 ist ein Bekenntnis. Ralf-Rainer Odenwald und Edwin Zaft setzen ihre Bilder 
 in ein Spannungsfeld\,  das unseren Alltag zunehmend prägt: zwischen algor
 ithmischer Ordnung und menschlicher Unschärfe\,  zwischen Berechenbarkeit 
 und Gefühl. In einer Welt\,  die immer stärker von künstlicher Intellige
 nz strukturiert\, [..]\nhttps://schleswig-holstein.sh/blog/veranstaltungen/
 ich-bin-kein-roboter/
URL:https://schleswig-holstein.sh/blog/veranstaltungen/ich-bin-kein-roboter/
END:VEVENT
END:VCALENDAR