BEGIN:VCALENDAR
VERSION:2.0
PRODID:-//eventon.com NONSGML v1.0//EN
CALSCALE:GREGORIAN
METHOD:PUBLISH
BEGIN:VEVENT
UID:69eca549c291e
DTSTAMP:20260425T112809Z
DTSTART:20260514T130000Z
DTEND:20260712T160000Z
LOCATION:KBH Marne Schillerstraße 11\,  25709 Marne
SUMMARY:Stille.
DESCRIPTION:Die Welt um uns herum ist laut. Achim Schmacks empfindet das La
 ute als unangenehm und störend. Die Stille hingegen gibt ihm Energie. Der 
 Inbegriff von Stille ist für ihn\,  wenn am späten Abend\,  bevor die Nac
 ht hereinbricht\,  die Landschaft zur Kulisse wird. Diese Stille überträg
 t er in seine Kunst. Ist[..]\nhttps://schleswig-holstein.sh/blog/veranstalt
 ungen/stille/
URL:https://schleswig-holstein.sh/blog/veranstaltungen/stille/
END:VEVENT
END:VCALENDAR