BEGIN:VCALENDAR
VERSION:2.0
PRODID:-//eventon.com NONSGML v1.0//EN
CALSCALE:GREGORIAN
METHOD:PUBLISH
BEGIN:VEVENT
UID:69e772d2dba82
DTSTAMP:20260421T125130Z
DTSTART:20260501T173000Z
DTEND:20260501T193000Z
LOCATION:KBH Marne Schillerstraße 11\,  25709 Marne
SUMMARY:Max Goldt
DESCRIPTION:Lange haben seine Fans auf ein neues Buch von ihm gewartet. Nun
  ist es endlich da: „Aber?“ Max Goldt\,  Schriftsteller und Musiker\,  
 geboren 1958 in Göttingen\,  bildete zusammen mit Gerd Pasemann das Musik 
 Duo „Foyer des Arts“. Mit Stephan Katz hat er mehrere Comicbände herau
 sgebracht. 1997 wurde ihm der Kasseler[..]\nhttps://schleswig-holstein.sh/b
 log/veranstaltungen/max-goldt/
URL:https://schleswig-holstein.sh/blog/veranstaltungen/max-goldt/
END:VEVENT
END:VCALENDAR