BEGIN:VCALENDAR
VERSION:2.0
PRODID:-//eventon.com NONSGML v1.0//EN
CALSCALE:GREGORIAN
METHOD:PUBLISH
BEGIN:VEVENT
UID:69ecdfa16c5bb
DTSTAMP:20260425T153705Z
DTSTART:20260502T173000Z
DTEND:20260502T193000Z
LOCATION:KBH Marne Schillerstraße 11\,  25709 Marne
SUMMARY:Alexander Maria Wagner - Klavier
DESCRIPTION:Alexander Maria Wagner (*1995) studierte Komposition und Klavie
 r am Mozarteum Salzburg und am Royal College of Music in London. Seine Konz
 erttätigkeit führte ihn durch ganz Europa und in die USA. 2018 erschien s
 eine Einspielung von Tschaikovskys 1. Klavierkonzert mit dem Radiosinfonieo
 rchester Moskau. &#8211; Bereits mit 14 Jahren komponierte er seine[..]\nht
 tps://schleswig-holstein.sh/blog/veranstaltungen/alexander-maria-wagner-kla
 vier/
URL:https://schleswig-holstein.sh/blog/veranstaltungen/alexander-maria-wagner-klavier/
END:VEVENT
END:VCALENDAR