BEGIN:VCALENDAR
VERSION:2.0
PRODID:-//eventon.com NONSGML v1.0//EN
CALSCALE:GREGORIAN
METHOD:PUBLISH
BEGIN:VEVENT
UID:69e789bcf09b8
DTSTAMP:20260421T142916Z
DTSTART:20260510T090000Z
DTEND:20260510T100000Z
LOCATION:KBH Marne Schillerstraße 11\,  25709 Marne
SUMMARY:Hase und Igel
DESCRIPTION:Die Zeit läuft. Der Zug nach Buxtehude hat eine Stunde Verspä
 tung. Dabei müssen Max und Lotte zu ihrem Auftritt. Sie nutzen die Zeit\, 
  um noch ein bisschen an ihrem neuen Lied zu üben\,  und so geht plötzlic
 h eine musikalische Reise los: und zwar nicht irgendeine\,  sondern die “
 vom Hasen und[..]\nhttps://schleswig-holstein.sh/blog/veranstaltungen/hase-
 und-igel/
URL:https://schleswig-holstein.sh/blog/veranstaltungen/hase-und-igel/
END:VEVENT
END:VCALENDAR