BEGIN:VCALENDAR
VERSION:2.0
PRODID:-//eventon.com NONSGML v1.0//EN
CALSCALE:GREGORIAN
METHOD:PUBLISH
BEGIN:VEVENT
UID:69e789c031a2c
DTSTAMP:20260421T142920Z
DTSTART:20260523T173000Z
DTEND:20260523T193000Z
LOCATION:KBH Marne Schillerstraße 11\,  25709 Marne
SUMMARY:Kieran Goss & Annie Kinsella
DESCRIPTION:Kieran Goss gilt als einer der führenden Singer/Songwriter Irl
 ands. Gemeinsam mit Annie Kinsella veröffentlichte er das Album „Oh\,  T
 he Starlings“\,  das für die beiden Künstler zu ausverkauften Konzerten
  in den größten Hallen der grünen Insel führte. Seit vielen Jahren tour
 en Kieran und Annie auch durch Deutschland\,  wo sie sich eine[..]\nhttps:/
 /schleswig-holstein.sh/blog/veranstaltungen/kieran-goss-annie-kinsella-2/
URL:https://schleswig-holstein.sh/blog/veranstaltungen/kieran-goss-annie-kinsella-2/
END:VEVENT
END:VCALENDAR