BEGIN:VCALENDAR
VERSION:2.0
PRODID:-//eventon.com NONSGML v1.0//EN
CALSCALE:GREGORIAN
METHOD:PUBLISH
BEGIN:VEVENT
UID:69e772d0618c5
DTSTAMP:20260421T125128Z
DTSTART:20260530T173000Z
DTEND:20260530T193000Z
LOCATION:KBH Marne Schillerstraße 11\,  25709 Marne
SUMMARY:Irland.
DESCRIPTION:Irland ist bekannt für seine Natur mit den sanft geschwungenen
  Hügeln\,  den schroffen Steilküsten und den idyllischen Fischerhäfen. D
 er Regen gehört ebenfalls zur „Grünen Insel“. Doch Irlands besondere 
 Anziehungskraft liegt nicht allein in seiner Natur\,  sondern ebenso in sei
 ner reichen Kultur\,  die von Geschichten\,  Mythen und Musik lebt. In der[
 ..]\nhttps://schleswig-holstein.sh/blog/veranstaltungen/irland/
URL:https://schleswig-holstein.sh/blog/veranstaltungen/irland/
END:VEVENT
END:VCALENDAR