BEGIN:VCALENDAR
VERSION:2.0
PRODID:-//eventon.com NONSGML v1.0//EN
CALSCALE:GREGORIAN
METHOD:PUBLISH
BEGIN:VEVENT
UID:69ecc36ae2ed5
DTSTAMP:20260425T133642Z
DTSTART:20260501T130000Z
DTEND:20260501T160000Z
LOCATION:KulturWerk Galerie Behrendt Esplanade 22 24534 Neumünster
SUMMARY:Mathias Lagler "Kaleidoskop der Ausdrücke"
DESCRIPTION:Mit der Ausstellung „Kaleidoskop der Ausdrücke“ zeigt das 
 KulturWerk Galerie Behrendt in Neumünster Arbeiten des in Heikendorf leben
 den Künstlers Mathias Lagler. Die Präsentation gibt einen vielschichtigen
  Einblick in ein Werk\,  das sich über Jahrzehnte entwickelt hat – offen
 \,  experimentierfreudig und konsequent frei von stilistischer Festlegung. 
 Was ist Mathias Lagler? Maler?[..]\nhttps://schleswig-holstein.sh/blog/vera
 nstaltungen/mathias-lagler-kaleidoskop-der-ausdruecke/var/ri-10.l-L1
URL:https://schleswig-holstein.sh/blog/veranstaltungen/mathias-lagler-kaleidoskop-der-ausdruecke/var/ri-10.l-L1
END:VEVENT
END:VCALENDAR