BEGIN:VCALENDAR
VERSION:2.0
PRODID:-//eventon.com NONSGML v1.0//EN
CALSCALE:GREGORIAN
METHOD:PUBLISH
BEGIN:VEVENT
UID:69ed84ae75bf9
DTSTAMP:20260426T032118Z
DTSTART:20260411T110000Z
DTEND:20260411T150000Z
LOCATION:KulturWerk Galerie Behrendt Esplanade 22 24534 Neumünster
SUMMARY:Mathias Lagler "Kaleidoskop der Ausdrücke"
DESCRIPTION:Mit der Ausstellung „Kaleidoskop der Ausdrücke“ zeigt das 
 KulturWerk Galerie Behrendt in Neumünster Arbeiten des in Heikendorf leben
 den Künstlers Mathias Lagler. Die Präsentation gibt einen vielschichtigen
  Einblick in ein Werk\,  das sich über Jahrzehnte entwickelt hat – offen
 \,  experimentierfreudig und konsequent frei von stilistischer Festlegung. 
 Was ist Mathias Lagler? Maler?[..]\nhttps://schleswig-holstein.sh/blog/vera
 nstaltungen/mathias-lagler-kaleidoskop-der-ausdruecke/var/ri-2.l-L1
URL:https://schleswig-holstein.sh/blog/veranstaltungen/mathias-lagler-kaleidoskop-der-ausdruecke/var/ri-2.l-L1
END:VEVENT
END:VCALENDAR