BEGIN:VCALENDAR
VERSION:2.0
PRODID:-//eventon.com NONSGML v1.0//EN
CALSCALE:GREGORIAN
METHOD:PUBLISH
BEGIN:VEVENT
UID:69eb49cb152cd
DTSTAMP:20260424T104531Z
DTSTART:20260323
DTEND:20260324
LOCATION:Sylt Museum Am Kliff 19\,  25980 Sylt
SUMMARY:Wolkenstudien und Küstenlandschaften
DESCRIPTION:Wolkenstudien und Küstenlandschaften Freilichtmalerei der Düs
 seldorfer Malerschule des späten 19. Jahrhunderts auf Sylt Sylt und seine 
 im 19. Jahrhundert noch weitgehend urtümliche Naturlandschaft hatten auch 
 die Maler der Düsseldorfer Malerschule\,  die in den Ateliers an der Kunst
 akademie studiert hatten\,  im Blick. Die aufkommende Bewegung der Freilich
 tmalerei des 19. Jahrhunderts erhielt[..]\nhttps://schleswig-holstein.sh/bl
 og/veranstaltungen/wolkenstudien-und-kuestenlandschaften/
URL:https://schleswig-holstein.sh/blog/veranstaltungen/wolkenstudien-und-kuestenlandschaften/
END:VEVENT
END:VCALENDAR