BEGIN:VCALENDAR
VERSION:2.0
PRODID:-//eventon.com NONSGML v1.0//EN
CALSCALE:GREGORIAN
METHOD:PUBLISH
BEGIN:VEVENT
UID:69e789c2ed91c
DTSTAMP:20260421T142922Z
DTSTART:20260612T170000Z
DTEND:20260612T190000Z
LOCATION:Kulturbahnhof (KuBah) Eutin 23701 Eutin\,  Eutin\,  Schleswig-Holstein 23701\,  Deutschland\,  Eutin\,  Schleswig-Holstein\,  Deutschland\,  Eutin\,  Schleswig-Holstein\,  Deutschland\,  Eutin\,  Schleswig-Holstein\,  Deutschland\,  Eutin\,  Schleswig-Holstein\,  Deutschland
SUMMARY:Kulturbahnhof (KuBah) Eutin "Und brichst du auf nach Ithaka"
DESCRIPTION:Burkhart Demberg liest griechische Texte von der Antike bis zur
  Gegenwart. Ulrike Landgrebe und Monika Kosmetschke spielen dazu auf dem Kl
 avier und verschiedenen Flöten.\nhttps://schleswig-holstein.sh/blog/verans
 taltungen/kulturbahnhof-kubah-eutin-und-brichst-du-auf-nach-ithaka/
URL:https://schleswig-holstein.sh/blog/veranstaltungen/kulturbahnhof-kubah-eutin-und-brichst-du-auf-nach-ithaka/
END:VEVENT
END:VCALENDAR