BEGIN:VCALENDAR
VERSION:2.0
PRODID:-//eventon.com NONSGML v1.0//EN
CALSCALE:GREGORIAN
METHOD:PUBLISH
BEGIN:VEVENT
UID:69e6ae6a8b556
DTSTAMP:20260420T225330Z
DTSTART:20260531T120000Z
DTEND:20260531T150000Z
LOCATION:Nolde Museum Seebüll\,  Seebüll 31\,  25927 Neukirchen Film- und Vortragsaal im Besucherforum (1. Stock)
SUMMARY:Malkurs - Himmel und Marsch
DESCRIPTION:Himmel und Marsch In diesem Malkurs nähern wir uns der Weite u
 nd Struktur der Marschlandschaft. Ausgehend von zeichnerischen Skizzen auf 
 Papier setzen wir die Motive anschließend mit Acrylfarben um. Die Arbeiten
  orientieren sich an Emil Noldes Landschaftsbildern der Marsch und greifen 
 deren Farbigkeit und Bildaufbau auf. Leitung: Helle Binding\nhttps://schles
 wig-holstein.sh/blog/veranstaltungen/malkurs-himmel-und-marsch/
URL:https://schleswig-holstein.sh/blog/veranstaltungen/malkurs-himmel-und-marsch/
END:VEVENT
END:VCALENDAR