BEGIN:VCALENDAR
VERSION:2.0
PRODID:-//eventon.com NONSGML v1.0//EN
CALSCALE:GREGORIAN
METHOD:PUBLISH
BEGIN:VEVENT
UID:69e6ae7564ed7
DTSTAMP:20260420T225341Z
DTSTART:20260621T120000Z
DTEND:20260621T150000Z
LOCATION:Nolde Museum Seebüll\,  Seebüll 31\,  25927 Neukirchen Film- und Vortragsaal im Besucherforum (1. Stock)
SUMMARY:Malkurs - Farbenprächtiger Nolde-Garten
DESCRIPTION:Farbenprächtiger Nolde-Garten Wir malen mit kräftigen Aquarel
 lfarben auf Seidenpapier und gestalten uns ein interessantes Blumenbild aus
  Noldes Garten. Bei gutem Wetter kreieren wir das Bildmotiv direkt im Garte
 n. Leitung: Martina Reinig-Kirchhoff\nhttps://schleswig-holstein.sh/blog/ve
 ranstaltungen/malkurs-farbenpraechtiger-nolde-garten/
URL:https://schleswig-holstein.sh/blog/veranstaltungen/malkurs-farbenpraechtiger-nolde-garten/
END:VEVENT
END:VCALENDAR