BEGIN:VCALENDAR
VERSION:2.0
PRODID:-//eventon.com NONSGML v1.0//EN
CALSCALE:GREGORIAN
METHOD:PUBLISH
BEGIN:VEVENT
UID:69e6aec137ad5
DTSTAMP:20260420T225457Z
DTSTART:20260628T120000Z
DTEND:20260628T150000Z
LOCATION:Nolde Museum Seebüll\,  Seebüll 31\,  25927 Neukirchen Film- und Vortragsaal im Besucherforum (1. Stock)
SUMMARY:Malkurs - Noldes Blumengarten
DESCRIPTION:Noldes Blumengarten Inspiriert von der Farbenvielfalt des Nolde
 -Gartens widmen wir uns dem Motiv der Blume. Zunächst entstehen zeichneris
 che Skizzen direkt im Garten. Anschließend setzen wir die Eindrücke in de
 r Malschule mit flüssiger Aquarellfarbe auf Chinapapier malerisch um. Leit
 ung: Helle Binding\nhttps://schleswig-holstein.sh/blog/veranstaltungen/malk
 urs-noldes-blumengarten/
URL:https://schleswig-holstein.sh/blog/veranstaltungen/malkurs-noldes-blumengarten/
END:VEVENT
END:VCALENDAR