BEGIN:VCALENDAR
VERSION:2.0
PRODID:-//eventon.com NONSGML v1.0//EN
CALSCALE:GREGORIAN
METHOD:PUBLISH
BEGIN:VEVENT
UID:69e6ae5b3d542
DTSTAMP:20260420T225315Z
DTSTART:20260802T120000Z
DTEND:20260802T150000Z
LOCATION:Nolde Museum Seebüll\,  Seebüll 31\,  25927 Neukirchen Film- und Vortragsaal im Besucherforum (1. Stock)
SUMMARY:Workshop - Fantasiefiguren in Keramik
DESCRIPTION:Fantasiefiguren in Keramik Emil Noldes fantasievolle Bildwelten
  dienen als Inspiration für eigene keramische Figuren. In diesem zweiteili
 gen Kurs gestalten wir individuelle Fantasiegeschöpfe aus Ton\,  die auf e
 inem Stativ aufgebaut und modelliert werden. Dabei wird gezeigt\,  wie die 
 Figur Schritt für Schritt auf dem Stativ entsteht und stabil ausgearbeitet
  wird. In[..]\nhttps://schleswig-holstein.sh/blog/veranstaltungen/workshop-
 fantasiefiguren-in-keramik/
URL:https://schleswig-holstein.sh/blog/veranstaltungen/workshop-fantasiefiguren-in-keramik/
END:VEVENT
END:VCALENDAR