BEGIN:VCALENDAR
VERSION:2.0
PRODID:-//eventon.com NONSGML v1.0//EN
CALSCALE:GREGORIAN
METHOD:PUBLISH
BEGIN:VEVENT
UID:69e6c6d174bba
DTSTAMP:20260421T003737Z
DTSTART:20260809T120000Z
DTEND:20260809T150000Z
LOCATION:Nolde Museum Seebüll\,  Seebüll 31\,  25927 Neukirchen Film- und Vortragsaal im Besucherforum (1. Stock)
SUMMARY:Malkurs – „Mein Garten voller Blumen“ (Nolde)
DESCRIPTION:„Mein Garten voller Blumen“ (Nolde) In Anlehnung an Noldes 
 Blumen- und Gartenbilder zeichnen wir bei schönem Wetter in der sommerlich
 en Blumenpracht des Nolde-Gartens. Dabei experimentieren wir mit langstieli
 gem Pinsel\,  Rohrfeder und kurzem Pinsel\,  nutzen Scribtol für die Tusch
 pinselzeichnung und bringen abschließend das Papier in der Malschule mit A
 quarellfarben zum Leuchten.[..]\nhttps://schleswig-holstein.sh/blog/veranst
 altungen/malkurs-mein-garten-voller-blumen-nolde/
URL:https://schleswig-holstein.sh/blog/veranstaltungen/malkurs-mein-garten-voller-blumen-nolde/
END:VEVENT
END:VCALENDAR