BEGIN:VCALENDAR
VERSION:2.0
PRODID:-//eventon.com NONSGML v1.0//EN
CALSCALE:GREGORIAN
METHOD:PUBLISH
BEGIN:VEVENT
UID:69e6ae6fd0ff7
DTSTAMP:20260420T225335Z
DTSTART:20260816T120000Z
DTEND:20260816T150000Z
LOCATION:Nolde Museum Seebüll\,  Seebüll 31\,  25927 Neukirchen Film- und Vortragsaal im Besucherforum (1. Stock)
SUMMARY:Malkurs - Blumen und Farben im Nolde-Garten
DESCRIPTION:Blumen und Farben im Nolde-Garten Der Nolde-Garten bietet mit s
 einer intensiven Farbigkeit vielfältige Anregungen für das Arbeiten mit f
 loralen Motiven. Nach ersten zeichnerischen Skizzen im Garten übertragen w
 ir ausgewählte Eindrücke in der Malschule auf Chinapapier und arbeiten do
 rt mit flüssiger Aquarellfarbe weiter. Leitung: Helle Binding\nhttps://sch
 leswig-holstein.sh/blog/veranstaltungen/malkurs-blumen-und-farben-im-nolde-
 garten/
URL:https://schleswig-holstein.sh/blog/veranstaltungen/malkurs-blumen-und-farben-im-nolde-garten/
END:VEVENT
END:VCALENDAR