BEGIN:VCALENDAR
VERSION:2.0
PRODID:-//eventon.com NONSGML v1.0//EN
CALSCALE:GREGORIAN
METHOD:PUBLISH
BEGIN:VEVENT
UID:69e6ae6d54227
DTSTAMP:20260420T225333Z
DTSTART:20260823T120000Z
DTEND:20260823T150000Z
LOCATION:Nolde Museum Seebüll\,  Seebüll 31\,  25927 Neukirchen Film- und Vortragsaal im Besucherforum (1. Stock)
SUMMARY:Malkurs - Sommer im Noldeland
DESCRIPTION:Sommer im Noldeland Wir malen mit farbstarken Acrylfarben fläc
 hige\,  weite\,  durch Wind bewegte Landschaften. Durch das Setzen von Akze
 nten mit Scribtol oder Kreide wird zunächst der gesamte Bildaufbau ersicht
 lich. Es entstehen Blumen- und Landschaftsbilder mit unendlicher Weite. Lei
 tung: Martina Reinig-Kirchhoff\nhttps://schleswig-holstein.sh/blog/veransta
 ltungen/malkurs-sommer-im-noldeland/
URL:https://schleswig-holstein.sh/blog/veranstaltungen/malkurs-sommer-im-noldeland/
END:VEVENT
END:VCALENDAR