BEGIN:VCALENDAR
VERSION:2.0
PRODID:-//eventon.com NONSGML v1.0//EN
CALSCALE:GREGORIAN
METHOD:PUBLISH
BEGIN:VEVENT
UID:69e6dcb336c8c
DTSTAMP:20260421T021059Z
DTSTART:20260818T093000Z
DTEND:20260818T101500Z
LOCATION:Nolde Museum SeebÃ¼ll\,  SeebÃ¼ll 31\,  25927 Neukirchen Film- und Vortragsaal im Besucherforum (1. Stock)
SUMMARY:Ã–ffentliche KunstfÃ¼hrungen
DESCRIPTION:KunstfÃ¼hrungen Dienstags\,  11:30 Uhr: Emil Nolde in SeebÃ¼ll 
 â€“ Kunst und Leben An ausgewÃ¤hlten Dienstagen um 11:30 Uhr laden wir zu e
 inem Einblick in die Welt von Emil und Ada Nolde ein. In einer rund 45-minÃ
 ¼tigen FÃ¼hrung geben unsere MuseumspÃ¤dagoginnen eine fundierte EinfÃ¼hrun
 g in Leben und Werk des KÃ¼nstlerpaares\,  in[..]\nhttps://schleswig-holste
 in.sh/blog/veranstaltungen/oeffentliche-kunstfuehrungen/var/ri-20.l-L1
URL:https://schleswig-holstein.sh/blog/veranstaltungen/oeffentliche-kunstfuehrungen/var/ri-20.l-L1
END:VEVENT
END:VCALENDAR