BEGIN:VCALENDAR
VERSION:2.0
PRODID:-//eventon.com NONSGML v1.0//EN
CALSCALE:GREGORIAN
METHOD:PUBLISH
BEGIN:VEVENT
UID:69e6ae67bfb41
DTSTAMP:20260420T225327Z
DTSTART:20260625T093000Z
DTEND:20260625T101500Z
LOCATION:Nolde Museum Seebüll\,  Seebüll 31\,  25927 Neukirchen Film- und Vortragsaal im Besucherforum (1. Stock)
SUMMARY:Öffentliche Gartenführungen
DESCRIPTION:Gartenführungen Donnerstags\,  11:30 Uhr: Ada und Emil Noldes 
 Garten An ausgewählten Donnerstagen um 11:30 Uhr erfahren Sie in einer etw
 a 45-minütigen Führung mehr über die Leidenschaft der Noldes für Pflanz
 en und die Gestaltung dieses einzigartigen Künstlergartens. Nehmen Sie Anr
 egungen aus Seebüll auch für den heimischen Garten mit! Bitte beachten Si
 e:[..]\nhttps://schleswig-holstein.sh/blog/veranstaltungen/oeffentliche-gar
 tenfuehrungen/var/ri-9.l-L1
URL:https://schleswig-holstein.sh/blog/veranstaltungen/oeffentliche-gartenfuehrungen/var/ri-9.l-L1
END:VEVENT
END:VCALENDAR