BEGIN:VCALENDAR
VERSION:2.0
PRODID:-//eventon.com NONSGML v1.0//EN
CALSCALE:GREGORIAN
METHOD:PUBLISH
BEGIN:VEVENT
UID:69eb782030cf8
DTSTAMP:20260424T140312Z
DTSTART:20260430T170000Z
DTEND:20260430T190000Z
LOCATION:Bücherpiraten e.V. Fleischhauerstr. 71\,  Lübeck 23552
SUMMARY:dilämmer - Spoken Word Abend
DESCRIPTION:Die Slämmerlämmer laden zu einem Abend voller Poesie zum Nach
 denken\,  Mitfühlen und Welt sortieren\,  mit Wortspielen\,  Wortgedanken 
 und Wortakrobatik. Eintritt: Jugendliche / Ermäßigt 4\, 00 € Erwachsene
 : 8\, 00 €\nhttps://schleswig-holstein.sh/blog/veranstaltungen/dilaemmer-
 spoken-word-abend/
URL:https://schleswig-holstein.sh/blog/veranstaltungen/dilaemmer-spoken-word-abend/
END:VEVENT
END:VCALENDAR