BEGIN:VCALENDAR
VERSION:2.0
PRODID:-//eventon.com NONSGML v1.0//EN
CALSCALE:GREGORIAN
METHOD:PUBLISH
BEGIN:VEVENT
UID:69eb7beb18360
DTSTAMP:20260424T141923Z
DTSTART:20260312T100000Z
DTEND:20260506T160000Z
LOCATION:ARTEmani – Galerie der kleinen Manufakturen Fleischhauerstr. 34\,  Lübeck\,  Schleswig-Holstein 23552\,  Deutschland
SUMMARY:Lübeck\,  Tortsen Rötzsch
DESCRIPTION:Fasziniert von der Unendlichkeit sowohl an Formen\,  Techniken\
 ,  Strukturen und Farben als auch von der Leuchtkraft und den besonderen Ef
 fekten bei Material- und Farbüberlagerungen\,  testet der Glasmacher immer
  wieder mit großer Neugier\,  wo seine Grenzen und die des Materials liege
 n. Bereits seit über 20 Jahren arbeitet Torsten Rötzsch mit heißem[..]\n
 https://schleswig-holstein.sh/blog/veranstaltungen/luebeck-tortsen-roetzsch
 /
URL:https://schleswig-holstein.sh/blog/veranstaltungen/luebeck-tortsen-roetzsch/
END:VEVENT
END:VCALENDAR