BEGIN:VCALENDAR
VERSION:2.0
PRODID:-//eventon.com NONSGML v1.0//EN
CALSCALE:GREGORIAN
METHOD:PUBLISH
BEGIN:VEVENT
UID:69eb4c7b6b45f
DTSTAMP:20260424T105659Z
DTSTART:20260411T130000Z
DTEND:20260503T150000Z
LOCATION:
SUMMARY:Innere Landschaften
DESCRIPTION:Ausstellung im Kulturfleck\,  Fleckeby â€žInnere Landschaftenâ€
 ś Bilder von Claudia Olivia Gillmann Skulpturen von Elke Koch Kulturhaus Fl
 eckeby Schustergang 2\,  24357 Fleckeby Vernissage Samstag 11. April um 15:
 00 Uhr Ausstellungszeitraum 11. April bis 3. Mai 2026 Ă–ď¬€nungszeiten sams
 tags und sonntags 14 bis 17 Uhr In der Ausstellung â€žInnere Landschaftenâ€
 ś begegnen sich[..]\nhttps://schleswig-holstein.sh/blog/veranstaltungen/inn
 ere-landschaften/
URL:https://schleswig-holstein.sh/blog/veranstaltungen/innere-landschaften/
END:VEVENT
END:VCALENDAR