BEGIN:VCALENDAR
VERSION:2.0
PRODID:-//eventon.com NONSGML v1.0//EN
CALSCALE:GREGORIAN
METHOD:PUBLISH
BEGIN:VEVENT
UID:69e7b28346e39
DTSTAMP:20260421T172315Z
DTSTART:20260505T170000Z
DTEND:20260505T215900Z
LOCATION:Beichthaus im Europäischen Hansemuseum An der Untertrave 1\,  23552 Lübeck
SUMMARY:Literatur trifft Wissen 8 »Fallgestaltung«
DESCRIPTION:Veranstaltung 8 „Fallgestaltung“ Selja Ahava ist eine bekan
 nte und bedeutende Autorin in Finnland. Glücklicherweise wurden zwei ihre
 r Bücher ins Deutsche übersetzt. Sie wird bei uns aus dem Roman „Ding
 e\,  die vom Himmel fallen“ (mare Verlag) lesen\,  für den sie den Lite
 raturpreis der Europäischen Union erhielt. In diesem Roman begegnen wir[..
 ]\nhttps://schleswig-holstein.sh/blog/veranstaltungen/literatur-trifft-wiss
 en-8-fallgestaltung/
URL:https://schleswig-holstein.sh/blog/veranstaltungen/literatur-trifft-wissen-8-fallgestaltung/
END:VEVENT
END:VCALENDAR